BEGIN:VCALENDAR
VERSION:2.0
PRODID:-//ChamberMaster//Event Calendar 2.0//EN
METHOD:PUBLISH
X-PUBLISHED-TTL:P3D
REFRESH-INTERVAL:P3D
CALSCALE:GREGORIAN
BEGIN:VEVENT
DTSTART;VALUE=DATE:20120205
DTEND;VALUE=DATE:20120206
TRANSP:TRANSPARENT
X-MICROSOFT-CDO-ALLDAYEVENT:TRUE
SUMMARY:Purse Auction! for Mother-To-Mother Ministries
DESCRIPTION:Annual Mother to Mother Purse Auction\n\n\n\n\n\nSunday\, February 5\n\nDoors open at 4 pm\n\n\n\n429 Factory\, 923 W Court Street\, Beatrice\n\n\n\nMeal served 4 - 5 pm\; freewill donation.  Auction at 5 pm. \n\n\n\nDonation of new\, gently used\, or unique purses may be dropped off at Burwood Books on Fifth Street in Beatrice during bookstore hours:  10 am - 6 pm Thursdays or 10 am - 2 pm Fridays and Saturdays.  Prizes to be placed in the purses also needed (gift certificates\, items\, or cash donations).  Donations by Friday\, Feb 3.  Julie Erickson\, 402-239-6485.
X-ALT-DESC;FMTTYPE=text/html:Annual Mother to Mother Purse Auction<br />\n<br />\n<br />\nSunday\, February 5<br />\nDoors open at 4 pm<br />\n<br />\n429 Factory\, 923 W Court Street\, Beatrice<br />\n<br />\nMeal served 4 - 5 pm\; freewill donation.&nbsp\; Auction at 5 pm.&nbsp\;<br />\n<br />\nDonation of new\, gently used\, or unique purses may be dropped off at Burwood Books on Fifth Street in Beatrice during bookstore hours:&nbsp\; 10 am - 6 pm Thursdays or 10 am - 2 pm Fridays and Saturdays.&nbsp\; Prizes to be placed in the purses also needed (gift certificates\, items\, or cash donations).&nbsp\; Donations by Friday\, Feb 3.&nbsp\; Julie Erickson\, 402-239-6485.
LOCATION:
UID:e.41.5297
SEQUENCE:3
DTSTAMP:20260422T185919Z
URL:https://business.beatricechamber.com/events/details/purse-auction-for-mother-to-mother-ministries-02-05-2012-5297
END:VEVENT

END:VCALENDAR
