BEGIN:VCALENDAR
VERSION:2.0
PRODID:-//ChamberMaster//Event Calendar 2.0//EN
METHOD:PUBLISH
X-PUBLISHED-TTL:P3D
REFRESH-INTERVAL:P3D
CALSCALE:GREGORIAN
BEGIN:VEVENT
DTSTART;VALUE=DATE:20110423
DTEND;VALUE=DATE:20110424
TRANSP:TRANSPARENT
X-MICROSOFT-CDO-ALLDAYEVENT:TRUE
SUMMARY:"Put Your Food Down Against Sexual Assault"
DESCRIPTION:Annual "Put Your Foot Down Against Sexual Assault"\n\n10k Run or 2-Mile Run/Walk\n\n\n\n7:45 am\, registration\n\nFairbury City Park - Community Building\n\n\n\nEvent begins at 8:30 am\n\n\n\nHope Crisis Center\, 402-729-2570\; on Facebook\, or visit www.hopecrisiscenter.org.  Toll free confidential crisis line: 877-388-HOPE(4673)
X-ALT-DESC;FMTTYPE=text/html:Annual &quot\;Put Your Foot Down Against Sexual Assault&quot\;<br />\n10k Run or 2-Mile Run/Walk<br />\n<br />\n7:45 am\, registration<br />\nFairbury City Park - Community Building<br />\n<br />\nEvent begins at 8:30 am<br />\n<br />\nHope Crisis Center\, 402-729-2570\; on Facebook\, or visit <a href="http://www.hopecrisiscenter.org">www.hopecrisiscenter.org</a>.&nbsp\; Toll free confidential crisis line: 877-388-HOPE(4673)
LOCATION:
UID:e.41.4599
SEQUENCE:3
DTSTAMP:20260424T195840Z
URL:https://business.beatricechamber.com/events/details/put-your-food-down-against-sexual-assault-04-23-2011-4599
END:VEVENT

END:VCALENDAR
