BEGIN:VCALENDAR
VERSION:2.0
PRODID:-//ChamberMaster//Event Calendar 2.0//EN
METHOD:PUBLISH
X-PUBLISHED-TTL:P3D
REFRESH-INTERVAL:P3D
CALSCALE:GREGORIAN
BEGIN:VEVENT
DTSTART;VALUE=DATE:20090821
DTEND;VALUE=DATE:20090822
TRANSP:TRANSPARENT
X-MICROSOFT-CDO-ALLDAYEVENT:TRUE
SUMMARY:Quilt Show and Sale - Soroptimist International
DESCRIPTION:Quilt Show and SaleSoroptimist House901 No. 6th Street   Beatrice\, Nebraska   (parking on Logan Street)1:00  to 6:00 p.m.Friday\, August 21\, 2009Quilts\, quilt frames\, display racks\, and other quilting items of Bobbie Wright & Nikki Reisen
X-ALT-DESC;FMTTYPE=text/html:<div><div v:shape="_x0000_s1026" style="padding-right: 7.95pt\; padding-left: 7.95pt\; padding-bottom: 4.35pt\; padding-top: 4.35pt"><div align="center"><strong><span style="font-size: large"><span>Quilt Show and Sale</span></span></strong></div><div align="center"><span style="font-size: large"><font color="#000080"><span style="color: navy">Soroptimist House</span></font></span></div><div align="center"><span style="font-size: large"><font color="#000080"><span style="color: navy">901 No. 6<sup>th</sup> Street</span></font><font color="#000080"><span style="color: navy"> &nbsp\;&nbsp\;</span></font></span></div><div align="center"><span style="font-size: large"><font color="#000080"><span style="color: navy">Beatrice</span></font><font color="#000080"><span style="color: navy">\, Nebraska</span></font><font color="#000080"><span style="color: navy"> &nbsp\;&nbsp\;</span></font></span></div><div align="center"><span style="font-size: large"><font color="#993366"><span style="color: #993366">(parking on Logan Street)</span></font></span></div><div align="center"><span style="font-size: large"><font color="#ff0000"><span style="color: red">1:00&nbsp\; to 6:00 p.m.</span></font></span></div><div align="center"><span style="font-size: large"><font color="#000080"><span style="color: navy">Friday\, August 21\, 2009</span></font></span></div><div align="center"><span style="font-size: medium"><span style=""><span style="">Quilts\, quilt frames\, display racks\, and other quilting items of Bobbie Wright &amp\;&nbsp\;Nikki Reisen</span></span></span></div></div></div>
LOCATION:
UID:e.41.1345
SEQUENCE:3
DTSTAMP:20260426T012252Z
URL:https://business.beatricechamber.com/events/details/quilt-show-and-sale-soroptimist-international-08-21-2009-1345
END:VEVENT

END:VCALENDAR
