BEGIN:VCALENDAR
VERSION:2.0
PRODID:-//ChamberMaster//Event Calendar 2.0//EN
METHOD:PUBLISH
X-PUBLISHED-TTL:P3D
REFRESH-INTERVAL:P3D
CALSCALE:GREGORIAN
BEGIN:VEVENT
DTSTART;VALUE=DATE:20120114
DTEND;VALUE=DATE:20120115
TRANSP:TRANSPARENT
X-MICROSOFT-CDO-ALLDAYEVENT:TRUE
SUMMARY:Race toward a Cure for Cancer kick off brunch
DESCRIPTION:will be held at Valentino's in Beatrice from 9-11 am for anyone wishing to be involved as a team member or volunteer. For more information call Kathy Steinkamp 402-228-1844
X-ALT-DESC;FMTTYPE=text/html:will be held at Valentino&#39\;s in Beatrice from 9-11 am for anyone wishing to be involved as a team member or volunteer. For more information call Kathy Steinkamp 402-228-1844
LOCATION:
UID:e.41.5278
SEQUENCE:3
DTSTAMP:20260422T202318Z
URL:https://business.beatricechamber.com/events/details/race-toward-a-cure-for-cancer-kick-off-brunch-01-14-2012-5278
END:VEVENT

END:VCALENDAR
