BEGIN:VCALENDAR
VERSION:2.0
PRODID:-//ChamberMaster//Event Calendar 2.0//EN
METHOD:PUBLISH
X-PUBLISHED-TTL:P3D
REFRESH-INTERVAL:P3D
CALSCALE:GREGORIAN
BEGIN:VEVENT
DTSTART;VALUE=DATE:20120324
DTEND;VALUE=DATE:20120325
TRANSP:TRANSPARENT
X-MICROSOFT-CDO-ALLDAYEVENT:TRUE
SUMMARY:Race Toward the Cure Run/Walk Event
DESCRIPTION:Race Toward the Cure Run/Walk Event\n\n\n\nSaturday\, March 24\n\n7:45 am Registration\n\nThrivent Financial Parking Lot\, 2526 E Court\n\n\n\nThe 5K Run will start at 9 am.  The one-mile family run/walk begins at 9:05 am. \n\n\n\nThe race is being hosted by "Thriving for Life" Relay for Life team and is co-sponsored by the YMCA and Thrivent Financial.  The run/walk participants will be joined by the 2012 Fitness Challenge contestants.  Proceeds will benefit the American Cancer Society Relay for Life in Gage County.\n\n\n\nRegistrations are requested by Monday\, at 9 pm.  Persons may enter the day of the race.  T-shirts will be available to the first 50 entrants.  Registrations will be accepted at the Beatrice YMCA\, 1801 Scott\, or call 402-223-5266.
X-ALT-DESC;FMTTYPE=text/html:Race Toward the Cure Run/Walk Event<br />\n<br />\nSaturday\, March 24<br />\n7:45 am Registration<br />\nThrivent Financial Parking Lot\, 2526 E Court<br />\n<br />\nThe 5K Run will start at 9 am.&nbsp\; The one-mile family run/walk begins at 9:05 am.&nbsp\;<br />\n<br />\nThe race is being hosted by &quot\;Thriving for Life&quot\; Relay for Life team and is co-sponsored by the YMCA and Thrivent Financial.&nbsp\; The run/walk participants will be joined by the 2012 Fitness Challenge contestants.&nbsp\; Proceeds will benefit the American Cancer Society Relay for Life in Gage County.<br />\n<br />\nRegistrations are requested by Monday\, at 9 pm.&nbsp\; Persons may enter the day of the race.&nbsp\; T-shirts will be available to the first 50 entrants.&nbsp\; Registrations will be accepted at the Beatrice YMCA\, 1801 Scott\, or call 402-223-5266.<br />\n<br />\n
LOCATION:
UID:e.41.5422
SEQUENCE:3
DTSTAMP:20260422T173036Z
URL:https://business.beatricechamber.com/events/details/race-toward-the-cure-run-walk-event-03-24-2012-5422
END:VEVENT

END:VCALENDAR
