BEGIN:VCALENDAR
VERSION:2.0
PRODID:-//ChamberMaster//Event Calendar 2.0//EN
METHOD:PUBLISH
X-PUBLISHED-TTL:P3D
REFRESH-INTERVAL:P3D
CALSCALE:GREGORIAN
BEGIN:VEVENT
DTSTART:20090809T020000Z
DTEND:20090809T220000Z
X-MICROSOFT-CDO-ALLDAYEVENT:FALSE
SUMMARY:Railroad Train Show - 4th Annual at City Auditorium
DESCRIPTION:Do you love Trains?  The City Auditorium is the place to be this weekend!! Join the Beatrice Area Railroad Enthusiasts for the4th Annual Train ShowSaturday & SundayAugust 7 & 8\, 2009Beatrice City Auditorium4th & Ella Streets Saturday Show Hours 9:00 am - 5:00 pmSunday Show Hours 10:00 am - 4:00 pm Admission:  $5.00 AdultsChildren 12 & Under - Free with paid Adult For further information call:David 402-223-5123 or Rich 402-223-5026 www.trainweb.org/barerr
X-ALT-DESC;FMTTYPE=text/html:<div>Do you love Trains?&nbsp\; The City Auditorium is the place to be this weekend!!</div><div>&nbsp\;</div><div>Join the Beatrice Area Railroad Enthusiasts for the</div><div>4th Annual Train Show</div><div>Saturday &amp\;&nbsp\;Sunday</div><div>August 7 &amp\; 8\, 2009</div><div><div>Beatrice City Auditorium</div><div>4th &amp\;&nbsp\;Ella Streets</div></div><div>&nbsp\;</div><div>Saturday Show Hours 9:00 am - 5:00 pm</div><div>Sunday Show Hours 10:00 am - 4:00 pm</div><div>&nbsp\;</div><div>Admission:&nbsp\; $5.00 Adults</div><div>Children 12 &amp\;&nbsp\;Under - Free with paid Adult</div><div>&nbsp\;</div><div>For further information call:</div><div>David 402-223-5123 or Rich 402-223-5026</div><div>&nbsp\;</div><div>www.trainweb.org/barerr</div>
LOCATION:
UID:e.41.1377
SEQUENCE:3
DTSTAMP:20260426T012246Z
URL:https://business.beatricechamber.com/events/details/railroad-train-show-4th-annual-at-city-auditorium-08-08-2009-1377
END:VEVENT

END:VCALENDAR
