BEGIN:VCALENDAR
VERSION:2.0
PRODID:-//ChamberMaster//Event Calendar 2.0//EN
METHOD:PUBLISH
X-PUBLISHED-TTL:P3D
REFRESH-INTERVAL:P3D
CALSCALE:GREGORIAN
BEGIN:VEVENT
DTSTART:20120916T150000Z
DTEND:20120916T150000Z
X-MICROSOFT-CDO-ALLDAYEVENT:FALSE
SUMMARY:Rally Day
DESCRIPTION:Rally Day\n\n\n\nWatermelon Candy: Free will donation\n\n\n\n10:10 am - Sunday J.A.M.\n\n10:30 am - 'Dwelling @ the Well' Youth Skit\n\n\n\nAll ages invited to the Sanctuary
X-ALT-DESC;FMTTYPE=text/html:Rally Day<br />\n<br />\nWatermelon Candy: Free will donation<br />\n<br />\n10:10 am - Sunday J.A.M.<br />\n10:30 am - &#39\;Dwelling @ the Well&#39\; Youth Skit<br />\n<br />\nAll ages invited to the Sanctuary
LOCATION:St. John Lutheran Church Beatrice\, NE
UID:e.41.6633
SEQUENCE:3
DTSTAMP:20260422T090355Z
URL:https://business.beatricechamber.com/events/details/rally-day-09-16-2012-6633
END:VEVENT

END:VCALENDAR
