BEGIN:VCALENDAR
VERSION:2.0
PRODID:-//ChamberMaster//Event Calendar 2.0//EN
METHOD:PUBLISH
X-PUBLISHED-TTL:P3D
REFRESH-INTERVAL:P3D
CALSCALE:GREGORIAN
BEGIN:VEVENT
DTSTART:20090723T210000Z
DTEND:20090723T230000Z
X-MICROSOFT-CDO-ALLDAYEVENT:FALSE
SUMMARY:Ready-Set-Go Back to School Event
DESCRIPTION:Get ready for back-to-school with the annual Ready-Set-Go eventThursday\, July 23 from 4 - 6 pmThe Salvation Army120 N 7th Street\, Beatrice This event is for children ages K-12 in Gage County from low-income families\, children new to the area and those having no family physician.  An income and expense form will be completed during registration.  Services available will include school supploies\, school clothing\, hair cut vouchers\, school physicals\, health kits\, shoe coupons and more.  For more information call 223-3341 or 228-8503
X-ALT-DESC;FMTTYPE=text/html:<div>Get ready for back-to-school with the annual Ready-Set-Go event</div><div>Thursday\, July 23 from 4 - 6 pm</div><div>The Salvation Army</div><div>120 N 7th Street\, Beatrice</div><div>&nbsp\;</div><div>This event is for children ages K-12 in Gage County from low-income families\, children new to the area and those having no family physician.&nbsp\; An income and expense form will be completed during registration.&nbsp\;</div><div>&nbsp\;</div><div>Services available will include school supploies\, school clothing\, hair cut vouchers\, school physicals\, health kits\, shoe coupons and more.&nbsp\;</div><div>&nbsp\;</div><div>For more information call 223-3341 or 228-8503</div>
LOCATION:
UID:e.41.1285
SEQUENCE:3
DTSTAMP:20260426T024939Z
URL:https://business.beatricechamber.com/events/details/ready-set-go-back-to-school-event-07-23-2009-1285
END:VEVENT

END:VCALENDAR
