BEGIN:VCALENDAR
VERSION:2.0
PRODID:-//ChamberMaster//Event Calendar 2.0//EN
METHOD:PUBLISH
X-PUBLISHED-TTL:P3D
REFRESH-INTERVAL:P3D
CALSCALE:GREGORIAN
BEGIN:VEVENT
DTSTART:20120726T210000Z
DTEND:20120726T230000Z
X-MICROSOFT-CDO-ALLDAYEVENT:FALSE
SUMMARY:Ready-Set-Go batck-to-school program
DESCRIPTION:This program is designed to help families with low-income ready their children for a new school year.\n\n\n\nMore than a dozen educational booths will be set up. This organization is organized by BCHHC and The Salvation Army and supported by community businesses.
X-ALT-DESC;FMTTYPE=text/html:This program is designed to help families with low-income ready their children for a new school year.<br />\n<br />\nMore than a dozen educational booths will be set up. This organization is organized by BCHHC and The Salvation Army and supported by community businesses.
LOCATION:
UID:e.41.6331
SEQUENCE:3
DTSTAMP:20260422T113434Z
URL:https://business.beatricechamber.com/events/details/ready-set-go-batck-to-school-program-07-26-2012-6331
END:VEVENT

END:VCALENDAR
