BEGIN:VCALENDAR
VERSION:2.0
PRODID:-//ChamberMaster//Event Calendar 2.0//EN
METHOD:PUBLISH
X-PUBLISHED-TTL:P3D
REFRESH-INTERVAL:P3D
CALSCALE:GREGORIAN
BEGIN:VEVENT
DTSTART:20110728T210000Z
DTEND:20110728T230000Z
X-MICROSOFT-CDO-ALLDAYEVENT:FALSE
SUMMARY:Ready-Set-Go Program
DESCRIPTION:The Ready-Set-Go Program will be held from 4 p.m.-6 p.m. at the National Guard Armory.  The program is open to Gage County families who are in financial need and also for those children who have no physician\, or are new to the area.\n\n\n\nFor more information\, contact Melinda Chleboun\, Gage County United Way Administrative Coordinator\, 402-223-3180\; or Norma Lou Cook\, Beatrice Community Hospital and Health center\, 402-228-8503.
X-ALT-DESC;FMTTYPE=text/html:The Ready-Set-Go Program will be held from 4 p.m.-6 p.m. at the National Guard Armory.&nbsp\; The program is open to Gage County families who are in financial need and also for those children who have no physician\, or are new to the area.<br />\n<br />\nFor more information\, contact Melinda Chleboun\, Gage County United Way Administrative Coordinator\, 402-223-3180\; or Norma Lou Cook\, Beatrice Community Hospital and Health center\, 402-228-8503.
LOCATION:
UID:e.41.4953
SEQUENCE:3
DTSTAMP:20260424T154559Z
URL:https://business.beatricechamber.com/events/details/ready-set-go-program-07-28-2011-4953
END:VEVENT

END:VCALENDAR
