BEGIN:VCALENDAR
VERSION:2.0
PRODID:-//ChamberMaster//Event Calendar 2.0//EN
METHOD:PUBLISH
X-PUBLISHED-TTL:P3D
REFRESH-INTERVAL:P3D
CALSCALE:GREGORIAN
BEGIN:VEVENT
DTSTART:20100603T140000Z
DTEND:20100603T180000Z
X-MICROSOFT-CDO-ALLDAYEVENT:FALSE
SUMMARY:REAP (Rural Enterprise Assistance Project)
DESCRIPTION:REAP (Rural Enterprise Assistance Project) Janelee Moran\, REAP representative Available at the Beatrice Area Chamber of Commerce office205 N. 4th StreetBeatrice\, NE  68310 First Thursday of each month from 9 a.m. - 1 p.m. Business people seeking assistance on any business issue should call the Chamber at 223-2338 to schedule an appointment.  No charge for this service.
X-ALT-DESC;FMTTYPE=text/html:<div>REAP&nbsp\;(Rural Enterprise Assistance Project)</div><div>&nbsp\;</div><div>Janelee Moran\,&nbsp\;REAP representative&nbsp\;</div><div>Available at the Beatrice Area Chamber of Commerce office</div><div>205 N. 4th Street</div><div>Beatrice\, NE&nbsp\; 68310</div><div>&nbsp\;</div><div>First Thursday of each month from 9 a.m. - 1 p.m.</div><div>&nbsp\;</div><div>Business people seeking assistance on any business issue should call the Chamber at 223-2338 to schedule an appointment.&nbsp\; No charge for this service.</div>
LOCATION:
UID:e.41.1917
SEQUENCE:3
DTSTAMP:20260425T105555Z
URL:https://business.beatricechamber.com/events/details/reap-rural-enterprise-assistance-project-06-03-2010-1917
END:VEVENT

END:VCALENDAR
