BEGIN:VCALENDAR
VERSION:2.0
PRODID:-//ChamberMaster//Event Calendar 2.0//EN
METHOD:PUBLISH
X-PUBLISHED-TTL:P3D
REFRESH-INTERVAL:P3D
CALSCALE:GREGORIAN
BEGIN:VEVENT
DTSTART;VALUE=DATE:20090923
DTEND;VALUE=DATE:20090925
TRANSP:TRANSPARENT
X-MICROSOFT-CDO-ALLDAYEVENT:TRUE
SUMMARY:Red Cross Blood Drive
DESCRIPTION:Give Blood - Feel like a superhero!! Wednesday\, September 23rd : 12:30 pm - 6:30 pm  Thursday\, September 24:  7 am - 1 pm Holiday Inn Express 4005 N 6th in the Conference Center Call 228-0260 to set an appointment (before drive) Sponsored by:Clabaugh Pharmacy & Gift ShopThe Medicine ShoppeBCHBeatrice Daily Sun
X-ALT-DESC;FMTTYPE=text/html:<div>Give Blood - Feel like a superhero!!</div><div>&nbsp\;</div><div>Wednesday\, September 23rd : 12:30 pm&nbsp\;- 6:30 pm&nbsp\;&nbsp\;</div><div>Thursday\, September 24:&nbsp\; 7 am - 1 pm</div><div>&nbsp\;</div><div>Holiday Inn Express 4005 N 6th in the Conference Center</div><div>&nbsp\;</div><div>Call 228-0260 to set an appointment (before drive)</div><div>&nbsp\;</div><div>Sponsored by:</div><div>Clabaugh Pharmacy &amp\; Gift Shop</div><div>The Medicine Shoppe</div><div>BCH</div><div>Beatrice Daily Sun</div>
LOCATION:
UID:e.41.1450
SEQUENCE:3
DTSTAMP:20260425T233433Z
URL:https://business.beatricechamber.com/events/details/red-cross-blood-drive-09-23-2009-1450
END:VEVENT

END:VCALENDAR
