BEGIN:VCALENDAR
VERSION:2.0
PRODID:-//ChamberMaster//Event Calendar 2.0//EN
METHOD:PUBLISH
X-PUBLISHED-TTL:P3D
REFRESH-INTERVAL:P3D
CALSCALE:GREGORIAN
BEGIN:VEVENT
DTSTART;VALUE=DATE:20111221
DTEND;VALUE=DATE:20111222
TRANSP:TRANSPARENT
X-MICROSOFT-CDO-ALLDAYEVENT:TRUE
SUMMARY:Red Cross Blood drive
DESCRIPTION:7am-6pm at the Holiday Inn Express\n\n4005 N 6th\n\nBeatrice\, Ne.\n\ncall 800-RED-CROSS (800-733-2767) for more information or to make an appointment
X-ALT-DESC;FMTTYPE=text/html:7am-6pm at the Holiday Inn Express<br />\n4005 N 6th<br />\nBeatrice\, Ne.<br />\ncall 800-RED-CROSS (800-733-2767) for more information or to make an appointment
LOCATION:
UID:e.41.5272
SEQUENCE:3
DTSTAMP:20260424T083009Z
URL:https://business.beatricechamber.com/events/details/red-cross-blood-drive-12-21-2011-5272
END:VEVENT

END:VCALENDAR
