BEGIN:VCALENDAR
VERSION:2.0
PRODID:-//ChamberMaster//Event Calendar 2.0//EN
METHOD:PUBLISH
X-PUBLISHED-TTL:P3D
REFRESH-INTERVAL:P3D
CALSCALE:GREGORIAN
BEGIN:VEVENT
DTSTART:20120830T120000Z
DTEND:20120830T180000Z
X-MICROSOFT-CDO-ALLDAYEVENT:FALSE
SUMMARY:Red Cross Bloodmobile
DESCRIPTION:Red Cross Bloodmobile at Holiday Inn Express. Help Save a Life!\n\n\n\nAppointments to 800-REDCROSS (800-733-2767)
X-ALT-DESC;FMTTYPE=text/html:Red Cross Bloodmobile at Holiday Inn Express. Help Save a Life!<br />\n<br />\nAppointments to 800-REDCROSS (800-733-2767)
LOCATION:Holiday Inn Express 4005 N. Sixth St. Beatrice\, NE
UID:e.41.6615
SEQUENCE:3
DTSTAMP:20260422T100421Z
URL:https://business.beatricechamber.com/events/details/red-cross-bloodmobile-08-30-2012-6615
END:VEVENT

END:VCALENDAR
