BEGIN:VCALENDAR
VERSION:2.0
PRODID:-//ChamberMaster//Event Calendar 2.0//EN
METHOD:PUBLISH
X-PUBLISHED-TTL:P3D
REFRESH-INTERVAL:P3D
CALSCALE:GREGORIAN
BEGIN:VEVENT
DTSTART;VALUE=DATE:20101113
DTEND;VALUE=DATE:20101114
TRANSP:TRANSPARENT
X-MICROSOFT-CDO-ALLDAYEVENT:TRUE
SUMMARY:Red Cross Football Party Fundraiser
DESCRIPTION:Red Cross Football Party Fundraiser\n\n\n\nClassic's\, 1301 Oak St.\, Beatrice. Nebraska-Kansas football game.\n\n\n\nRefreshments. $50 per person or $100 per couple. Cash bar. Begins one-half hour prior to kickoff. Pay at the door. Reservations needed by noon Nov. 10. Call the Red Cross\, 223-4211. Everyone Welcome.
X-ALT-DESC;FMTTYPE=text/html:<strong><span style="font-size: 14px">Red Cross Football Party Fundraiser</span></strong><br />\n<br />\nClassic&#39\;s\, 1301 Oak St.\, Beatrice. Nebraska-Kansas football game.<br />\n<br />\nRefreshments. $50 per person or $100 per couple. Cash bar. Begins one-half hour prior to kickoff. Pay at the door. Reservations needed by noon Nov. 10. Call the Red Cross\, 223-4211. Everyone Welcome.
LOCATION:
UID:e.41.2806
SEQUENCE:3
DTSTAMP:20260425T033039Z
URL:https://business.beatricechamber.com/events/details/red-cross-football-party-fundraiser-11-13-2010-2806
END:VEVENT

END:VCALENDAR
