BEGIN:VCALENDAR
VERSION:2.0
PRODID:-//ChamberMaster//Event Calendar 2.0//EN
METHOD:PUBLISH
X-PUBLISHED-TTL:P3D
REFRESH-INTERVAL:P3D
CALSCALE:GREGORIAN
BEGIN:VEVENT
DTSTART;VALUE=DATE:20120429
DTEND;VALUE=DATE:20120430
TRANSP:TRANSPARENT
X-MICROSOFT-CDO-ALLDAYEVENT:TRUE
SUMMARY:Red Cross to host pancake feed
DESCRIPTION:Join the American Red Cross in Beatrice for its Annual Pancake Feed Benefit Sunday\, April 29\, from 8 a.m.-1 p. m.\n\n\n\nThe community is invited to breakfast with friends and neighbors while supporting the humanitarian mission of the American Red Cross with a freewill offering.\n\n\n\nFor the 33rd year in a row\, the American Legion Club at 701 Dorsey St. in Beatrice host the event and serve pancakes\, sausage\, eggs\, coffee\, juice and milk. All proceeds will benefits the humanitarian mission of the American Red Cross.\n\n\n\nSupplemetal funds are provided by Agrium and Thrivent Financial for Lutherans.\n\n\n\nFor more information\, please call Rosemary Niemeier
X-ALT-DESC;FMTTYPE=text/html:Join the American Red Cross in Beatrice&nbsp\;for its Annual&nbsp\;Pancake Feed Benefit Sunday\,&nbsp\;April 29\,&nbsp\;from 8&nbsp\;a.m.-1 p. m.<br />\n<br />\nThe&nbsp\;community is&nbsp\;invited to&nbsp\;breakfast with friends and neighbors&nbsp\;while supporting the humanitarian mission of the American&nbsp\;Red Cross with a freewill offering.<br />\n<br />\nFor the&nbsp\;33rd&nbsp\;year in a row\, the American Legion Club at&nbsp\;701 Dorsey St.&nbsp\;in Beatrice host the event and serve&nbsp\;pancakes\,&nbsp\;sausage\, eggs\, coffee\, juice and milk. All proceeds&nbsp\;will benefits&nbsp\;the humanitarian&nbsp\;mission of the&nbsp\;American Red&nbsp\;Cross.<br />\n<br />\nSupplemetal funds are provided by Agrium and Thrivent Financial for Lutherans.<br />\n<br />\nFor more information\,&nbsp\;please call Rosemary Niemeier
LOCATION:
UID:e.41.5485
SEQUENCE:3
DTSTAMP:20260422T154756Z
URL:https://business.beatricechamber.com/events/details/red-cross-to-host-pancake-feed-04-29-2012-5485
END:VEVENT

END:VCALENDAR
