BEGIN:VCALENDAR
VERSION:2.0
PRODID:-//ChamberMaster//Event Calendar 2.0//EN
METHOD:PUBLISH
X-PUBLISHED-TTL:P3D
REFRESH-INTERVAL:P3D
CALSCALE:GREGORIAN
BEGIN:VEVENT
DTSTART:20120930T180000Z
DTEND:20120930T220000Z
X-MICROSOFT-CDO-ALLDAYEVENT:FALSE
SUMMARY:Relay For Life
DESCRIPTION:Relay For Life\n\nFall Home & Garden Open House Tour\n\n\n\nAll donations go to the American Cancer Society Relay for Life\n\n\n	\n		Corinne Koch- 705 South 25th St.\n	\n		Shirleen Wolfe- 1501 Garfield\n	\n		Samaritan Springs- 600 South 22nd St.\n	\n		Pauline & Jim Bauer- 1010 Quail Ridge Cr.\n	\n		Holly & Dan Reiter- 904 South 25th St.\n	\n		Joyce Blackwell- 2100 High\n	\n		Cheri & Ron Craig- 1038 W. Sargent Rd\n	\n		Mary Ann & Allen Kreuscher- 909 Covered Bridge Rd (garden only)\n\n\n\nQuestions: Corinne Koch- (402) 228-0164\n\n                      Shirleen Wolfe- (402) 430-3444
X-ALT-DESC;FMTTYPE=text/html:Relay For Life<br />\nFall Home &amp\; Garden Open House Tour<br />\n<br />\nAll donations go to the American Cancer Society Relay for Life<br />\n<ol>\n	<li>\n		Corinne Koch- 705 South 25th St.</li>\n	<li>\n		Shirleen Wolfe- 1501 Garfield</li>\n	<li>\n		Samaritan Springs- 600 South 22nd St.</li>\n	<li>\n		Pauline &amp\; Jim Bauer- 1010 Quail Ridge Cr.</li>\n	<li>\n		Holly &amp\; Dan Reiter- 904 South 25th St.</li>\n	<li>\n		Joyce Blackwell- 2100 High</li>\n	<li>\n		Cheri &amp\; Ron Craig-&nbsp\;1038 W. Sargent Rd</li>\n	<li>\n		Mary Ann &amp\; Allen Kreuscher- 909 Covered Bridge Rd (garden only)</li>\n</ol>\n<br />\nQuestions: Corinne Koch- (402) 228-0164<br />\n&nbsp\;&nbsp\;&nbsp\;&nbsp\;&nbsp\;&nbsp\;&nbsp\;&nbsp\;&nbsp\;&nbsp\;&nbsp\;&nbsp\;&nbsp\;&nbsp\;&nbsp\;&nbsp\;&nbsp\;&nbsp\;&nbsp\;&nbsp\;&nbsp\;&nbsp\;Shirleen Wolfe- (402) 430-3444
LOCATION:
UID:e.41.6856
SEQUENCE:3
DTSTAMP:20260422T090513Z
URL:https://business.beatricechamber.com/events/details/relay-for-life-09-30-2012-6856
END:VEVENT

END:VCALENDAR
