BEGIN:VCALENDAR
VERSION:2.0
PRODID:-//ChamberMaster//Event Calendar 2.0//EN
METHOD:PUBLISH
X-PUBLISHED-TTL:P3D
REFRESH-INTERVAL:P3D
CALSCALE:GREGORIAN
BEGIN:VEVENT
DTSTART:20100326T210000Z
DTEND:20100327T010000Z
X-MICROSOFT-CDO-ALLDAYEVENT:FALSE
SUMMARY:Relay for Life 7th Annual Soup Supper Fundraiser 3/26/10
DESCRIPTION:Relay for Life7th Annual Soup Supper FundraiserFriday\, March 26\, 20104 - 8 p.m. The Rail212 Court StreetBeatrice\, NE  Soup and pulled pork sandwiches.  Dine in or carry out.  All proceeds will go to the American Cancer Society.  Sponsors:  The Rail\, H&H Distributing and CASH-WA Distributing.
X-ALT-DESC;FMTTYPE=text/html:<div>Relay for Life</div><div>7th Annual Soup Supper Fundraiser</div><div>Friday\, March 26\, 2010</div><div>4 - 8 p.m.</div><div>&nbsp\;</div><div>The Rail</div><div>212 Court Street</div><div>Beatrice\, NE&nbsp\;</div><div>&nbsp\;</div><div>Soup and pulled pork sandwiches.&nbsp\; Dine in or carry out.&nbsp\; All proceeds will go to the American Cancer Society.&nbsp\; Sponsors: &nbsp\;The Rail\, H&amp\;H Distributing and CASH-WA&nbsp\;Distributing.</div><div>&nbsp\;</div>
LOCATION:
UID:e.41.1927
SEQUENCE:3
DTSTAMP:20260425T153500Z
URL:https://business.beatricechamber.com/events/details/relay-for-life-7th-annual-soup-supper-fundraiser-3-26-10-03-26-2010-1927
END:VEVENT

END:VCALENDAR
