BEGIN:VCALENDAR
VERSION:2.0
PRODID:-//ChamberMaster//Event Calendar 2.0//EN
METHOD:PUBLISH
X-PUBLISHED-TTL:P3D
REFRESH-INTERVAL:P3D
CALSCALE:GREGORIAN
BEGIN:VEVENT
DTSTART;VALUE=DATE:20110429
DTEND;VALUE=DATE:20110430
TRANSP:TRANSPARENT
X-MICROSOFT-CDO-ALLDAYEVENT:TRUE
SUMMARY:Relay for Life Cancer Survivors Celebration Supper
DESCRIPTION:Relay for Life Cancer Survivors Celebration Supper\n\nhosted by Beatrice Community Hospital\n\n\n\nFriday\, April 29\n\n\n\nRemarks by:  Dr. Joseph Kam Chiu\, radiation oncologist.\n\n\n\nRegistration Deadline:  April 15\n\n\n\nIf you're a survivor and haven't received a letter and supper registration form\, please call Jacki Kimes\, American Cancer Society volunteer\, 402-228-6506
X-ALT-DESC;FMTTYPE=text/html:Relay for Life Cancer Survivors Celebration Supper<br />\nhosted by Beatrice Community Hospital<br />\n<br />\nFriday\, April 29<br />\n<br />\nRemarks by:&nbsp\; Dr. Joseph Kam Chiu\, radiation oncologist.<br />\n<br />\nRegistration Deadline:&nbsp\; April 15<br />\n<br />\nIf you&#39\;re a survivor and haven&#39\;t received a letter and supper registration form\, please call Jacki Kimes\, American Cancer Society volunteer\, 402-228-6506
LOCATION:
UID:e.41.4584
SEQUENCE:3
DTSTAMP:20260424T200256Z
URL:https://business.beatricechamber.com/events/details/relay-for-life-cancer-survivors-celebration-supper-04-29-2011-4584
END:VEVENT

END:VCALENDAR
