BEGIN:VCALENDAR
VERSION:2.0
PRODID:-//ChamberMaster//Event Calendar 2.0//EN
METHOD:PUBLISH
X-PUBLISHED-TTL:P3D
REFRESH-INTERVAL:P3D
CALSCALE:GREGORIAN
BEGIN:VEVENT
DTSTART;VALUE=DATE:20100424
DTEND;VALUE=DATE:20100425
TRANSP:TRANSPARENT
X-MICROSOFT-CDO-ALLDAYEVENT:TRUE
SUMMARY:Relay for Life Car Wash & Vac Fundraiser
DESCRIPTION:Relay For Life Car Wash & Vacuum Fundraiser Saturday\, April 24\, 201010 am - 2 pmSutton Repair\, Odell\, NE Lemonade stand.  Freewill donation.  Proceeds designated to the American Cancer Society's Gage County Relay for Life event (April 30-May 1)\, Gage County Fairgrounds. Questions\, call Kristie Sutton\, 402-766-4144.
X-ALT-DESC;FMTTYPE=text/html:<div>Relay For Life Car Wash &amp\;&nbsp\;Vacuum Fundraiser</div><div>&nbsp\;</div><div>Saturday\, April 24\, 2010</div><div>10 am - 2 pm</div><div>Sutton Repair\, Odell\, NE</div><div>&nbsp\;</div><div>Lemonade stand.&nbsp\;&nbsp\;Freewill donation.&nbsp\; Proceeds designated to the American Cancer Society's Gage County Relay for Life event (April 30-May 1)\, Gage County Fairgrounds.</div><div>&nbsp\;</div><div>Questions\, call Kristie Sutton\, 402-766-4144.</div>
LOCATION:
UID:e.41.1963
SEQUENCE:3
DTSTAMP:20260425T135520Z
URL:https://business.beatricechamber.com/events/details/relay-for-life-car-wash-vac-fundraiser-04-24-2010-1963
END:VEVENT

END:VCALENDAR
