BEGIN:VCALENDAR
VERSION:2.0
PRODID:-//ChamberMaster//Event Calendar 2.0//EN
METHOD:PUBLISH
X-PUBLISHED-TTL:P3D
REFRESH-INTERVAL:P3D
CALSCALE:GREGORIAN
BEGIN:VEVENT
DTSTART:20120414T130000Z
DTEND:20120414T190000Z
X-MICROSOFT-CDO-ALLDAYEVENT:FALSE
SUMMARY:Relay for Life Garage Sale and Bake Sale
DESCRIPTION:Beatrice Senior Center\, 101 N 25th St.\, one block east of Pamida. All money collected go to 2012 Relay For Life (April 28). Hosted by Beatrice Community Hospital Team Sore Feet and Koch Family and Friends Teams
X-ALT-DESC;FMTTYPE=text/html:Beatrice Senior Center\, 101 N 25th St.\, one block east of Pamida. All money collected go to 2012 Relay For Life (April 28). Hosted by Beatrice Community Hospital Team Sore Feet and Koch Family and Friends Teams
LOCATION:
UID:e.41.5468
SEQUENCE:3
DTSTAMP:20260422T155220Z
URL:https://business.beatricechamber.com/events/details/relay-for-life-garage-sale-and-bake-sale-04-14-2012-5468
END:VEVENT

END:VCALENDAR
