BEGIN:VCALENDAR
VERSION:2.0
PRODID:-//ChamberMaster//Event Calendar 2.0//EN
METHOD:PUBLISH
X-PUBLISHED-TTL:P3D
REFRESH-INTERVAL:P3D
CALSCALE:GREGORIAN
BEGIN:VEVENT
DTSTART:20120413T220000Z
DTEND:20120414T010000Z
X-MICROSOFT-CDO-ALLDAYEVENT:FALSE
SUMMARY:Relay For Life Hamburger Night
DESCRIPTION:The Rail\, 212 Court St.\, Beatrice. Hamburger\, chips\, pop\; $5. All proceeds to American Cancer Society Relay for Life in Gage County
X-ALT-DESC;FMTTYPE=text/html:The Rail\, 212 Court St.\, Beatrice. Hamburger\, chips\, pop\; $5. All proceeds to American Cancer Society Relay for Life in Gage County
LOCATION:
UID:e.41.5474
SEQUENCE:3
DTSTAMP:20260422T154905Z
URL:https://business.beatricechamber.com/events/details/relay-for-life-hamburger-night-04-13-2012-5474
END:VEVENT

END:VCALENDAR
