BEGIN:VCALENDAR
VERSION:2.0
PRODID:-//ChamberMaster//Event Calendar 2.0//EN
METHOD:PUBLISH
X-PUBLISHED-TTL:P3D
REFRESH-INTERVAL:P3D
CALSCALE:GREGORIAN
BEGIN:VEVENT
DTSTART:20120414T130000Z
DTEND:20120414T170000Z
X-MICROSOFT-CDO-ALLDAYEVENT:FALSE
SUMMARY:Relay for Life Multi-Family Garage Sale and Bake Sale
DESCRIPTION:Seven miles south of Beatrice Highway 77. A portion of the proceeds to 2012 Gage County Relay for Life
X-ALT-DESC;FMTTYPE=text/html:Seven miles south of Beatrice Highway 77. A portion of the proceeds to 2012 Gage County Relay for Life
LOCATION:
UID:e.41.5470
SEQUENCE:3
DTSTAMP:20260422T155339Z
URL:https://business.beatricechamber.com/events/details/relay-for-life-multi-family-garage-sale-and-bake-sale-04-14-2012-5470
END:VEVENT

END:VCALENDAR
