BEGIN:VCALENDAR
VERSION:2.0
PRODID:-//ChamberMaster//Event Calendar 2.0//EN
METHOD:PUBLISH
X-PUBLISHED-TTL:P3D
REFRESH-INTERVAL:P3D
CALSCALE:GREGORIAN
BEGIN:VEVENT
DTSTART;VALUE=DATE:20100410
DTEND;VALUE=DATE:20100411
TRANSP:TRANSPARENT
X-MICROSOFT-CDO-ALLDAYEVENT:TRUE
SUMMARY:Relay For Life Pool Tournament 4/1/2010
DESCRIPTION:Relay For Life Pool TournamentHosted by The Rail Saturday\, April 10\, 20101 p.m. Limited to 32 teams\, with an entry fee of $20 per team.  Lunch will be available throughout the day. All proceeds benefit the American Cancer Society Relay For Life in Gage County.  For more information\, call 228-9857.
X-ALT-DESC;FMTTYPE=text/html:<div>Relay For Life</div><div>&nbsp\;</div><div>Pool Tournament</div><div>Hosted by The Rail</div><div>&nbsp\;</div><div>Saturday\, April 10\, 2010</div><div>1 p.m.</div><div>&nbsp\;</div><div>Limited to 32 teams\, with an entry fee of $20 per team.&nbsp\; Lunch will be available throughout the day.</div><div>&nbsp\;</div><div>All proceeds benefit the American Cancer Society Relay For Life in Gage County.&nbsp\; For more information\, call 228-9857.</div>
LOCATION:
UID:e.41.1949
SEQUENCE:3
DTSTAMP:20260425T140203Z
URL:https://business.beatricechamber.com/events/details/relay-for-life-pool-tournament-4-1-2010-04-10-2010-1949
END:VEVENT

END:VCALENDAR
