BEGIN:VCALENDAR
VERSION:2.0
PRODID:-//ChamberMaster//Event Calendar 2.0//EN
METHOD:PUBLISH
X-PUBLISHED-TTL:P3D
REFRESH-INTERVAL:P3D
CALSCALE:GREGORIAN
BEGIN:VEVENT
DTSTART;VALUE=DATE:20110219
DTEND;VALUE=DATE:20110228
TRANSP:TRANSPARENT
X-MICROSOFT-CDO-ALLDAYEVENT:TRUE
SUMMARY:"Remembering Our Fallen" Photographic Exhibit
DESCRIPTION:Homestead National Monument of America is proud to host the photographic exhibit "Remembering Our Fallen." This exhibition\, featuring photographs of Nebraska and western Iowa armed forces members killed during service in Iraq and Afghanistan can be experienced at the monument's Education Center from February 19 through February 27.\n\n\n\nThe "Remembering Our Fallen" photo exhibit was assembled by Bill and Evonne Williams\, who developed the exhibit to keep the memory of these fallen heroes in peoples' thoughts and not let them be forgotten. The photo panels show the portraits of these servicemen and servicewomen\, mostly in uniform\, listed from the first killed in action to the most recent. Often smaller\, more personal photos were provided by the families and added later.  \n\n\n\n"We hope you will take the opportunity to witness this important and moving exhibit at Homestead National Monument of America\, and remember and honor those who have fallen in service to this great nation\," says Superintendent Mark Engler.\n\n\n\nBringing this exhibit to Homestead National Monument of America is being sponsored by numerous Veterans of Foreign Wars and American Legion Posts in Nebraska as well as Friends of Homestead National Monument of America.
X-ALT-DESC;FMTTYPE=text/html:Homestead National Monument of America is proud to host the photographic exhibit "Remembering Our Fallen." This exhibition\, featuring photographs of Nebraska and western Iowa armed forces members killed during service in Iraq and Afghanistan can be experienced at the monument's Education Center from February 19 through February 27.\n<br>\n<br>The "Remembering Our Fallen" photo exhibit was assembled by Bill and Evonne Williams\, who developed the exhibit to keep the memory of these fallen heroes in peoples' thoughts and not let them be forgotten. The photo panels show the portraits of these servicemen and servicewomen\, mostly in uniform\, listed from the first killed in action to the most recent. Often smaller\, more personal photos were provided by the families and added later.  \n<br>\n<br>"We hope you will take the opportunity to witness this important and moving exhibit at Homestead National Monument of America\, and remember and honor those who have fallen in service to this great nation\," says Superintendent Mark Engler.\n<br>\n<br>Bringing this exhibit to Homestead National Monument of America is being sponsored by numerous Veterans of Foreign Wars and American Legion Posts in Nebraska as well as Friends of Homestead National Monument of America.\n<br> \n<br> \n<br>
LOCATION:Homestead National Monument of America's Education Center
UID:e.41.3172
SEQUENCE:3
DTSTAMP:20260424T225602Z
URL:https://business.beatricechamber.com/events/details/remembering-our-fallen-photographic-exhibit-02-19-2011-3172
END:VEVENT

END:VCALENDAR
