BEGIN:VCALENDAR
VERSION:2.0
PRODID:-//ChamberMaster//Event Calendar 2.0//EN
METHOD:PUBLISH
X-PUBLISHED-TTL:P3D
REFRESH-INTERVAL:P3D
CALSCALE:GREGORIAN
BEGIN:VEVENT
DTSTART:20120422T190000Z
DTEND:20120422T200000Z
X-MICROSOFT-CDO-ALLDAYEVENT:FALSE
SUMMARY:Remembering the Oklahoma Land Rush Program
DESCRIPTION:
X-ALT-DESC;FMTTYPE=text/html:
LOCATION:Homestead National Monument of America
UID:e.41.5346
SEQUENCE:3
DTSTAMP:20260422T154405Z
URL:https://business.beatricechamber.com/events/details/remembering-the-oklahoma-land-rush-program-04-22-2012-5346
END:VEVENT

END:VCALENDAR
