BEGIN:VCALENDAR
VERSION:2.0
PRODID:-//ChamberMaster//Event Calendar 2.0//EN
METHOD:PUBLISH
X-PUBLISHED-TTL:P3D
REFRESH-INTERVAL:P3D
CALSCALE:GREGORIAN
BEGIN:VEVENT
DTSTART;VALUE=DATE:20110918
DTEND;VALUE=DATE:20110919
TRANSP:TRANSPARENT
X-MICROSOFT-CDO-ALLDAYEVENT:TRUE
SUMMARY:Remmer's Country Jammers
DESCRIPTION:Remmer's Country Jammers\n\n\n\nSunday\, September 18\n\n1 - 3:30 pm\n\n\n\nCortland Diner\n\nCortland\, NE
X-ALT-DESC;FMTTYPE=text/html:Remmer&#39\;s Country Jammers<br />\n<br />\nSunday\, September 18<br />\n1 - 3:30 pm<br />\n<br />\nCortland Diner<br />\nCortland\, NE
LOCATION:
UID:e.41.5101
SEQUENCE:3
DTSTAMP:20260424T123124Z
URL:https://business.beatricechamber.com/events/details/remmer-s-country-jammers-09-18-2011-5101
END:VEVENT

END:VCALENDAR
