BEGIN:VCALENDAR
VERSION:2.0
PRODID:-//ChamberMaster//Event Calendar 2.0//EN
METHOD:PUBLISH
X-PUBLISHED-TTL:P3D
REFRESH-INTERVAL:P3D
CALSCALE:GREGORIAN
BEGIN:VEVENT
DTSTART:20110717T180000Z
DTEND:20110717T203000Z
X-MICROSOFT-CDO-ALLDAYEVENT:FALSE
SUMMARY:Remmers Country Jam
DESCRIPTION:Remmers Country Jam: 1-3:30 p.m. at the Cortland Diner in Cortland.
X-ALT-DESC;FMTTYPE=text/html:<p>\n	Remmers Country Jam: 1-3:30 p.m. at the Cortland Diner in Cortland.</p>\n
LOCATION:
UID:e.41.4963
SEQUENCE:3
DTSTAMP:20260424T153028Z
URL:https://business.beatricechamber.com/events/details/remmers-country-jam-07-17-2011-4963
END:VEVENT

END:VCALENDAR
