BEGIN:VCALENDAR
VERSION:2.0
PRODID:-//ChamberMaster//Event Calendar 2.0//EN
METHOD:PUBLISH
X-PUBLISHED-TTL:P3D
REFRESH-INTERVAL:P3D
CALSCALE:GREGORIAN
BEGIN:VEVENT
DTSTART:20110821T180000Z
DTEND:20110821T203000Z
X-MICROSOFT-CDO-ALLDAYEVENT:FALSE
SUMMARY:Remmers County Music Jam
DESCRIPTION:1-3:30 p.m. at the Cortland Diner in Cortland.
X-ALT-DESC;FMTTYPE=text/html:1-3:30 p.m. at the Cortland Diner in Cortland.
LOCATION:
UID:e.41.5046
SEQUENCE:3
DTSTAMP:20260424T134411Z
URL:https://business.beatricechamber.com/events/details/remmers-county-music-jam-08-21-2011-5046
END:VEVENT

END:VCALENDAR
