BEGIN:VCALENDAR
VERSION:2.0
PRODID:-//ChamberMaster//Event Calendar 2.0//EN
METHOD:PUBLISH
X-PUBLISHED-TTL:P3D
REFRESH-INTERVAL:P3D
CALSCALE:GREGORIAN
BEGIN:VEVENT
DTSTART;VALUE=DATE:20120817
DTEND;VALUE=DATE:20120818
TRANSP:TRANSPARENT
X-MICROSOFT-CDO-ALLDAYEVENT:TRUE
SUMMARY:Ribbon Cutting and Dedication at The House of Orange
DESCRIPTION:
X-ALT-DESC;FMTTYPE=text/html:
LOCATION:
UID:e.41.6338
SEQUENCE:3
DTSTAMP:20260422T101125Z
URL:https://business.beatricechamber.com/events/details/ribbon-cutting-and-dedication-at-the-house-of-orange-08-17-2012-6338
END:VEVENT

END:VCALENDAR
