BEGIN:VCALENDAR
VERSION:2.0
PRODID:-//ChamberMaster//Event Calendar 2.0//EN
METHOD:PUBLISH
X-PUBLISHED-TTL:P3D
REFRESH-INTERVAL:P3D
CALSCALE:GREGORIAN
BEGIN:VEVENT
DTSTART;VALUE=DATE:20110415
DTEND;VALUE=DATE:20110416
TRANSP:TRANSPARENT
X-MICROSOFT-CDO-ALLDAYEVENT:TRUE
SUMMARY:Ribbon Cutting - WorldLawn Power Equipment
DESCRIPTION:Beatrice Area Chamber of Commerce Ambassadors\n\nRibbon Cutting\n\nWorldLawn Power Equipment\, Inc.\n\n2415 Ashland Ave\n\nBeatrice\, NE
X-ALT-DESC;FMTTYPE=text/html:Beatrice Area Chamber of Commerce Ambassadors<br />\nRibbon Cutting<br />\nWorldLawn Power Equipment\, Inc.<br />\n2415 Ashland Ave<br />\nBeatrice\, NE<br />\n<br />\n
LOCATION:
UID:e.41.4575
SEQUENCE:3
DTSTAMP:20260424T195453Z
URL:https://business.beatricechamber.com/events/details/ribbon-cutting-worldlawn-power-equipment-04-15-2011-4575
END:VEVENT

END:VCALENDAR
