BEGIN:VCALENDAR
VERSION:2.0
PRODID:-//ChamberMaster//Event Calendar 2.0//EN
METHOD:PUBLISH
X-PUBLISHED-TTL:P3D
REFRESH-INTERVAL:P3D
CALSCALE:GREGORIAN
BEGIN:VEVENT
DTSTART;VALUE=DATE:20111103
DTEND;VALUE=DATE:20111104
TRANSP:TRANSPARENT
X-MICROSOFT-CDO-ALLDAYEVENT:TRUE
SUMMARY:Ribbon Cuttings
DESCRIPTION:Beatrice Area Chamber of Commerce Ambassadors - Ribbon Cuttings\n\n\n\nCall the Chamber for details! 402-223-2338
X-ALT-DESC;FMTTYPE=text/html:Beatrice Area Chamber of Commerce Ambassadors - Ribbon Cuttings<br />\n<br />\nCall the Chamber for details! 402-223-2338
LOCATION:
UID:e.41.5222
SEQUENCE:3
DTSTAMP:20260424T100012Z
URL:https://business.beatricechamber.com/events/details/ribbon-cuttings-11-03-2011-5222
END:VEVENT

END:VCALENDAR
