BEGIN:VCALENDAR
VERSION:2.0
PRODID:-//ChamberMaster//Event Calendar 2.0//EN
METHOD:PUBLISH
X-PUBLISHED-TTL:P3D
REFRESH-INTERVAL:P3D
CALSCALE:GREGORIAN
BEGIN:VEVENT
DTSTART;VALUE=DATE:20120826
DTEND;VALUE=DATE:20120827
TRANSP:TRANSPARENT
X-MICROSOFT-CDO-ALLDAYEVENT:TRUE
SUMMARY:Rice Lodge Celebration
DESCRIPTION:
X-ALT-DESC;FMTTYPE=text/html:
LOCATION:Come help celebrate the complete restoration of the Rice Lodge in Odell\, Ne.
UID:e.41.6336
SEQUENCE:3
DTSTAMP:20260422T100339Z
URL:https://business.beatricechamber.com/events/details/rice-lodge-celebration-08-26-2012-6336
END:VEVENT

END:VCALENDAR
