BEGIN:VCALENDAR
VERSION:2.0
PRODID:-//ChamberMaster//Event Calendar 2.0//EN
METHOD:PUBLISH
X-PUBLISHED-TTL:P3D
REFRESH-INTERVAL:P3D
CALSCALE:GREGORIAN
BEGIN:VEVENT
DTSTART;VALUE=DATE:20120317
DTEND;VALUE=DATE:20120318
TRANSP:TRANSPARENT
X-MICROSOFT-CDO-ALLDAYEVENT:TRUE
SUMMARY:Rice Lodge Conference Center Open House
DESCRIPTION:Rice Lodge and Conference Center\n\nOpen House & Tour\n\n\n\nSaturday\, March 17\n\n5:30 - 7:30 pm\n\n\n\nFormer Rice Hospital on Main Street\, Odell\, NE
X-ALT-DESC;FMTTYPE=text/html:Rice Lodge and Conference Center<br />\nOpen House &amp\; Tour<br />\n<br />\nSaturday\, March 17<br />\n5:30 - 7:30 pm<br />\n<br />\nFormer Rice Hospital on Main Street\, Odell\, NE
LOCATION:
UID:e.41.5417
SEQUENCE:3
DTSTAMP:20260422T173307Z
URL:https://business.beatricechamber.com/events/details/rice-lodge-conference-center-open-house-03-17-2012-5417
END:VEVENT

END:VCALENDAR
