BEGIN:VCALENDAR
VERSION:2.0
PRODID:-//ChamberMaster//Event Calendar 2.0//EN
METHOD:PUBLISH
X-PUBLISHED-TTL:P3D
REFRESH-INTERVAL:P3D
CALSCALE:GREGORIAN
BEGIN:VEVENT
DTSTART:20120609T120000Z
DTEND:20120609T120000Z
X-MICROSOFT-CDO-ALLDAYEVENT:FALSE
SUMMARY:Ride 2 Recovery Event
DESCRIPTION:The American Legion Auxiliary\, Department of Nebraska\, will host the second Ride 2 Recovery (R2R) event in support of our wounded warriors on Saturday\, June 9.\n\n\n\nThe American Legion Family Post No. 105 at 106 Locust St.\, Hickman\, is hosting the event with registration check-in at 7-8:15 a.m. The ride/walk begins at 8:30 a.m.\n\n\n\nR2R is not a race or competition. Honor Rides are held to raise awareness that members of the Armed Forces have experienced life-changing events/injuries such as PTSD\, traumatic brain injuries\, amputations\, to name a few\, while serving in America's fight for Freedom. Through the R2R events\, wounded warriors are the benefactors of funds raised by local communities through pledges and active participation.\n\n\n\nR2R events are open to every level of cycling. To pre-register and make pledge commitments\, go online at www.raceregister.net or www.angrycowardventures.com.\n\n\n\nPersons may contact Betty Snyder\, A.L.A. Department event coordinator at 402-874-0490 or genesnyder007@live.com\; Jim Craig\, the ride coordinator\, at 402-432-3622 or Linda Varejecka\, the Hickman A.L.A.\, at 402-792-2144\, 402-380-2549 or jfvarejcka@windstream.net. Make checks payable to: A.L.A. R2R.
X-ALT-DESC;FMTTYPE=text/html:The American&nbsp\;Legion Auxiliary\, Department of&nbsp\;Nebraska\,&nbsp\;will host&nbsp\;the second Ride 2&nbsp\;Recovery&nbsp\;(R2R) event&nbsp\;in support of our wounded&nbsp\;warriors on Saturday\, June 9.<br />\n<br />\nThe&nbsp\;American Legion Family Post&nbsp\;No.&nbsp\;105 at 106 Locust&nbsp\;St.\, Hickman\, is&nbsp\;hosting the event with registration check-in at&nbsp\;7-8:15 a.m.&nbsp\;The ride/walk begins at 8:30 a.m.<br />\n<br />\nR2R is not a&nbsp\;race or competition. Honor Rides are held to raise awareness that members&nbsp\;of the Armed&nbsp\;Forces have experienced life-changing&nbsp\;events/injuries&nbsp\;such as PTSD\, traumatic brain injuries\, amputations\, to name a few\, while serving&nbsp\;in America&#39\;s&nbsp\;fight for&nbsp\;Freedom.&nbsp\;Through the&nbsp\;R2R events\, wounded warriors&nbsp\;are the benefactors&nbsp\;of funds raised by local communities through pledges and active participation.<br />\n<br />\nR2R events are open&nbsp\;to every level of cycling. To pre-register&nbsp\;and make pledge commitments\, go online at www.raceregister.net or www.angrycowardventures.com.<br />\n<br />\nPersons&nbsp\;may contact&nbsp\;Betty Snyder\, A.L.A. Department event&nbsp\;coordinator at 402-874-0490 or genesnyder007@live.com\; Jim Craig\, the ride coordinator\, at 402-432-3622 or Linda Varejecka\, the Hickman A.L.A.\, at&nbsp\;402-792-2144\, 402-380-2549 or&nbsp\;jfvarejcka@windstream.net.&nbsp\;Make&nbsp\;checks payable to: A.L.A.&nbsp\;R2R.
LOCATION:
UID:e.41.5722
SEQUENCE:3
DTSTAMP:20260422T131111Z
URL:https://business.beatricechamber.com/events/details/ride-2-recovery-event-06-09-2012-5722
END:VEVENT

END:VCALENDAR
