BEGIN:VCALENDAR
VERSION:2.0
PRODID:-//ChamberMaster//Event Calendar 2.0//EN
METHOD:PUBLISH
X-PUBLISHED-TTL:P3D
REFRESH-INTERVAL:P3D
CALSCALE:GREGORIAN
BEGIN:VEVENT
DTSTART:20111030T140000Z
DTEND:20111030T210000Z
X-MICROSOFT-CDO-ALLDAYEVENT:FALSE
SUMMARY:Rifle Sight-In Day
DESCRIPTION:Rifle Sight-In Day\n\nSunday\, October 30\n\n9 am - 4 pm\n\n\n\nPatch 'N Powder Gang Range: north of Beatrice on Hwy 77 to Hackberry Road\, turn west on Hackberry\, go 4 miles\, turn north 1/2 mile\, on east side of the road.\n\n\n\nCost $5 per rifle.\n\n\n\nSponsor: Patch 'N Powder Gang and Turkey's Always Chapter.\n\n\n\nBore sight on site. \n\n\n\nFor more information call Lloyd Warren\, 402-228-1391\; Sam Dierberger\, 402-223-5070\; or Frank Mitschler\, 402-228-3931.
X-ALT-DESC;FMTTYPE=text/html:Rifle Sight-In Day<br />\nSunday\, October 30<br />\n9 am - 4 pm<br />\n<br />\nPatch &#39\;N Powder Gang Range: north of Beatrice on Hwy 77 to Hackberry Road\, turn west&nbsp\;on Hackberry\, go 4 miles\, turn north 1/2 mile\, on east side of the road.<br />\n<br />\nCost $5 per rifle.<br />\n<br />\nSponsor: Patch&nbsp\;&#39\;N Powder Gang and Turkey&#39\;s Always Chapter.<br />\n<br />\nBore sight on site.&nbsp\;<br />\n<br />\nFor more information call Lloyd Warren\, 402-228-1391\; Sam Dierberger\, 402-223-5070\; or Frank Mitschler\, 402-228-3931.
LOCATION:
UID:e.41.5175
SEQUENCE:3
DTSTAMP:20260424T111142Z
URL:https://business.beatricechamber.com/events/details/rifle-sight-in-day-10-30-2011-5175
END:VEVENT

END:VCALENDAR
