BEGIN:VCALENDAR
VERSION:2.0
PRODID:-//ChamberMaster//Event Calendar 2.0//EN
METHOD:PUBLISH
X-PUBLISHED-TTL:P3D
REFRESH-INTERVAL:P3D
CALSCALE:GREGORIAN
BEGIN:VEVENT
DTSTART:20091003T130000Z
DTEND:20091003T190000Z
X-MICROSOFT-CDO-ALLDAYEVENT:FALSE
SUMMARY:Riverfront Cleanup
DESCRIPTION:Meet at the Court Street Bridge.  Dress warm\, bring gloves and waders!
X-ALT-DESC;FMTTYPE=text/html:<div>Meet at the Court Street Bridge.&nbsp\; Dress warm\, bring gloves and waders!&nbsp\;</div>
LOCATION:
UID:e.41.1457
SEQUENCE:3
DTSTAMP:20260425T220541Z
URL:https://business.beatricechamber.com/events/details/riverfront-cleanup-10-03-2009-1457
END:VEVENT

END:VCALENDAR
