BEGIN:VCALENDAR
VERSION:2.0
PRODID:-//ChamberMaster//Event Calendar 2.0//EN
METHOD:PUBLISH
X-PUBLISHED-TTL:P3D
REFRESH-INTERVAL:P3D
CALSCALE:GREGORIAN
BEGIN:VEVENT
DTSTART;VALUE=DATE:20110521
DTEND;VALUE=DATE:20110522
TRANSP:TRANSPARENT
X-MICROSOFT-CDO-ALLDAYEVENT:TRUE
SUMMARY:Rock Against Rape
DESCRIPTION:"Rock Against Rape"\n\n\n\nSaturday\, May 21\n\n6 pm\n\n\n\nRisky's Bar & Grill\n\n$5 cover charge will be donated to Hope Crisis Center\, which serves victims of domestic violence and sexual assault.\n\n\n\n\n\n\n\nHosted by The Hope Crisis Center and Risky's Bar & Grill.
X-ALT-DESC;FMTTYPE=text/html:<strong>&quot\;Rock Against Rape&quot\;<br />\n<br />\nSaturday\, May 21<br />\n6 pm</strong><br />\n<br />\nRisky&#39\;s Bar&nbsp\;&amp\; Grill<br />\n$5 cover charge will be donated to Hope Crisis Center\, which serves victims of domestic violence and sexual assault.<br />\n<br />\n<br />\n<br />\nHosted by The Hope Crisis Center and Risky&#39\;s Bar &amp\; Grill.
LOCATION:
UID:e.41.4837
SEQUENCE:3
DTSTAMP:20260424T182150Z
URL:https://business.beatricechamber.com/events/details/rock-against-rape-05-21-2011-4837
END:VEVENT

END:VCALENDAR
