BEGIN:VCALENDAR
VERSION:2.0
PRODID:-//ChamberMaster//Event Calendar 2.0//EN
METHOD:PUBLISH
X-PUBLISHED-TTL:P3D
REFRESH-INTERVAL:P3D
CALSCALE:GREGORIAN
BEGIN:VEVENT
DTSTART;VALUE=DATE:20100522
DTEND;VALUE=DATE:20100523
TRANSP:TRANSPARENT
X-MICROSOFT-CDO-ALLDAYEVENT:TRUE
SUMMARY:Rock Against Rape 5/22/2010
DESCRIPTION:Rock Against Rape Join us for a GREAT night of FUN! Saturday\, May 226 p.m. - closeRisky's in Beatrice 6 Bands/$5 cover Beer Garden\, No mintors/ID required Enter for a chance to win Country Stampede Tickets\, Tickets to the KC Royals\, and many more great prizes!  Buy a t-shirt and/or koozie. sponsored by Hope Crisis Center & Risky's
X-ALT-DESC;FMTTYPE=text/html:<div style="text-align: center"><strong><span style="font-size: large">Rock Against Rape</span></strong></div><div style="text-align: center">&nbsp\;</div><div style="text-align: center"><span style="font-size: small">Join us for a GREAT night of FUN!</span></div><div style="text-align: center">&nbsp\;</div><div style="text-align: center"><span style="font-size: small">Saturday\, May 22</span></div><div style="text-align: center"><span style="font-size: small">6 p.m. - close</span></div><div style="text-align: center"><span style="font-size: small">Risky's in Beatrice</span></div><div style="text-align: center">&nbsp\;</div><div style="text-align: center"><span style="font-size: small">6 Bands/$5 cover</span></div><div style="text-align: center">&nbsp\;</div><div style="text-align: center"><span style="font-size: small">Beer Garden\, No mintors/ID required</span></div><div style="text-align: center">&nbsp\;</div><div style="text-align: center"><span style="font-size: small">Enter for a chance to win Country Stampede Tickets\, Tickets to the KC&nbsp\;Royals\, and many more great prizes!&nbsp\; Buy a t-shirt and/or koozie.</span></div><div style="text-align: center">&nbsp\;</div><div style="text-align: center"><span style="font-size: small">sponsored by Hope Crisis Center &amp\;&nbsp\;Risky's</span></div>
LOCATION:
UID:e.41.1986
SEQUENCE:3
DTSTAMP:20260425T122506Z
URL:https://business.beatricechamber.com/events/details/rock-against-rape-5-22-2010-05-22-2010-1986
END:VEVENT

END:VCALENDAR
