BEGIN:VCALENDAR
VERSION:2.0
PRODID:-//ChamberMaster//Event Calendar 2.0//EN
METHOD:PUBLISH
X-PUBLISHED-TTL:P3D
REFRESH-INTERVAL:P3D
CALSCALE:GREGORIAN
BEGIN:VEVENT
DTSTART;VALUE=DATE:20110915
DTEND;VALUE=DATE:20110916
TRANSP:TRANSPARENT
X-MICROSOFT-CDO-ALLDAYEVENT:TRUE
SUMMARY:Roger Tibbs and Tex and Mary Schutz in Concert
DESCRIPTION:Roger Tibbs and Tex and Mary Schutz in Concert\n\n\n\nThursday\, September 15\n\n7 pm\n\n\n\nZion Lutheran Church\, seven miles east and two miles south of Pickrell.  Country gospel music and old favorite selections\, along with Tibbs' unique style of yodeling.  Ice cream social in the church's parish hall following concert. \n\n\n\nPortion of the proceeds go to a special fund for victims of the Joplin\, MO tornado.  Freewill offering.  903-467-9545\n\nwww.rogertibbs-usa.com or www.texandmary.com.
X-ALT-DESC;FMTTYPE=text/html:Roger Tibbs and Tex and Mary Schutz in Concert<br />\n<br />\nThursday\, September 15<br />\n7 pm<br />\n<br />\nZion Lutheran Church\, seven miles east and two miles south of Pickrell.&nbsp\; Country gospel music and old favorite selections\, along with Tibbs&#39\; unique style of yodeling.&nbsp\; Ice cream social in the church&#39\;s parish hall following concert.&nbsp\;<br />\n<br />\nPortion of the proceeds go to a special fund for victims of the Joplin\, MO tornado.&nbsp\; Freewill offering.&nbsp\; 903-467-9545<br />\n<a href="http://www.rogertibbs-usa.com">www.rogertibbs-usa.com</a> or <a href="http://www.texandmary.com">www.texandmary.com</a>.<br />\n<br />\n
LOCATION:
UID:e.41.5113
SEQUENCE:3
DTSTAMP:20260424T123258Z
URL:https://business.beatricechamber.com/events/details/roger-tibbs-and-tex-and-mary-schutz-in-concert-09-15-2011-5113
END:VEVENT

END:VCALENDAR
