BEGIN:VCALENDAR
VERSION:2.0
PRODID:-//ChamberMaster//Event Calendar 2.0//EN
METHOD:PUBLISH
X-PUBLISHED-TTL:P3D
REFRESH-INTERVAL:P3D
CALSCALE:GREGORIAN
BEGIN:VEVENT
DTSTART:20101117T233000Z
DTEND:20101118T010000Z
X-MICROSOFT-CDO-ALLDAYEVENT:FALSE
SUMMARY:Ronald McDonald Live
DESCRIPTION:LOOK WHO'S DROPPING IN!\n\nRonald McDonald Live\n\n\n\nWednesday\, Nov. 17th\, 5:30-7pm\n\n\n\nStop in & see Ronald McDonald and his Magic Show!\n\n\n\nBring your camera!\n\n\n\nBeatrice Location
X-ALT-DESC;FMTTYPE=text/html:<strong><span style="font-size: 14px">LOOK WHO&#39\;S DROPPING IN!<br />\nRonald McDonald Live</span></strong><br />\n<br />\nWednesday\, Nov. 17th\, 5:30-7pm<br />\n<br />\nStop in &amp\; see Ronald McDonald and his Magic Show!<br />\n<br />\nBring your camera!<br />\n<br />\nBeatrice Location<br />\n
LOCATION:
UID:e.41.2831
SEQUENCE:3
DTSTAMP:20260425T032433Z
URL:https://business.beatricechamber.com/events/details/ronald-mcdonald-live-11-17-2010-2831
END:VEVENT

END:VCALENDAR
