BEGIN:VCALENDAR
VERSION:2.0
PRODID:-//ChamberMaster//Event Calendar 2.0//EN
METHOD:PUBLISH
X-PUBLISHED-TTL:P3D
REFRESH-INTERVAL:P3D
CALSCALE:GREGORIAN
BEGIN:VEVENT
DTSTART:20091002T220000Z
DTEND:20091003T000000Z
X-MICROSOFT-CDO-ALLDAYEVENT:FALSE
SUMMARY:Rotary BBQ
DESCRIPTION:Rotary BBQ TicketsFriday\, October 2ndBefore the Beatrice vs. Waverly Football Game5:00 - 7:00 p.m.Middle School Cafeteria Tickets cost $6.00 for Adults & $4.00 for Children.They are available for purchase at the Chamber office\, 205 North 4th Street.
X-ALT-DESC;FMTTYPE=text/html:<div><div style="text-align: left"><strong>Rotary BBQ Tickets</strong></div><div style="text-align: left">Friday\, October 2nd</div><div style="text-align: left">Before the Beatrice vs. Waverly Football Game</div><div style="text-align: left">5:00 - 7:00 p.m.</div><div style="text-align: left">Middle School Cafeteria</div><div style="text-align: left">&nbsp\;</div><div style="text-align: left">Tickets cost $6.00 for Adults &amp\; $4.00 for Children.</div><div style="text-align: left">They are available for purchase at the Chamber office\, 205 North 4th Street.</div></div>
LOCATION:
UID:e.41.1452
SEQUENCE:3
DTSTAMP:20260425T220639Z
URL:https://business.beatricechamber.com/events/details/rotary-bbq-10-02-2009-1452
END:VEVENT

END:VCALENDAR
