BEGIN:VCALENDAR
VERSION:2.0
PRODID:-//ChamberMaster//Event Calendar 2.0//EN
METHOD:PUBLISH
X-PUBLISHED-TTL:P3D
REFRESH-INTERVAL:P3D
CALSCALE:GREGORIAN
BEGIN:VEVENT
DTSTART:20120526T120000Z
DTEND:20120527T010000Z
X-MICROSOFT-CDO-ALLDAYEVENT:FALSE
SUMMARY:Run for Fun in Odell
DESCRIPTION:Odell Area Community Enrichment (OACE) will hose the annual Memorial Day Weekend Run for Fun. \n\n7:00 a.m. -Packet pick-up and sign in\n\n8:00 a.m. -All races begin\n\nThe races start and finish on Main Street in Odell near the city park.\n\nEntry fees if received by May 18\, are $20 for the 10K and 5K\, and $10 for the one-mile. There is a $5 family discount if three or more are entered from the same household.\n\nEntry fees received after May 18 increase to $25 and $15. The fees include a soft-blend T-shirt and post-race refreshments. Prizes awarded to top three male/females finishers under age 40 and over 40 in the 5K and 10K races.\n\nFor more information call Julie Feist at 402-641-5746\, or Mary Jo Bures at 402-230-9083.
X-ALT-DESC;FMTTYPE=text/html:Odell Area&nbsp\;Community Enrichment&nbsp\;(OACE)&nbsp\;will hose the annual Memorial Day&nbsp\;Weekend Run for Fun.&nbsp\;<br />\n7:00 a.m.&nbsp\;-Packet&nbsp\;pick-up and sign in<br />\n8:00 a.m. -All races begin<br />\nThe races&nbsp\;start and finish on Main Street in Odell&nbsp\;near the city park.<br />\nEntry&nbsp\;fees if received by May&nbsp\;18\, are&nbsp\;$20 for the 10K&nbsp\;and 5K\, and&nbsp\;$10 for&nbsp\;the one-mile. There is a&nbsp\;$5&nbsp\;family discount&nbsp\;if three or more&nbsp\;are entered&nbsp\;from the same household.<br />\nEntry fees received after&nbsp\;May 18&nbsp\;increase to&nbsp\;$25&nbsp\;and $15. The fees include&nbsp\;a soft-blend T-shirt and post-race refreshments. Prizes awarded to top three male/females finishers under age 40 and over&nbsp\;40 in the 5K&nbsp\;and 10K races.<br />\nFor more information&nbsp\;call Julie Feist at 402-641-5746\, or Mary Jo Bures at 402-230-9083.<br />\n&nbsp\;
LOCATION:
UID:e.41.5703
SEQUENCE:3
DTSTAMP:20260422T142352Z
URL:https://business.beatricechamber.com/events/details/run-for-fun-in-odell-05-26-2012-5703
END:VEVENT

END:VCALENDAR
