BEGIN:VCALENDAR
VERSION:2.0
PRODID:-//ChamberMaster//Event Calendar 2.0//EN
METHOD:PUBLISH
X-PUBLISHED-TTL:P3D
REFRESH-INTERVAL:P3D
CALSCALE:GREGORIAN
BEGIN:VEVENT
DTSTART;VALUE=DATE:20110528
DTEND;VALUE=DATE:20110529
TRANSP:TRANSPARENT
X-MICROSOFT-CDO-ALLDAYEVENT:TRUE
SUMMARY:Run for Fun in Odell
DESCRIPTION:Run For Fun in Odell\n\n\n\n10K\, 5K\, 1-Mile\n\n\n\nSaturday\, May 28\n\nRace Start Time: 8 am\n\nCheck-in: 7 am\n\n\n\nhttp://www.odell-nebraska.us/run%20for%20fun%20flyer%202011.pdf for entry form\n\n\n\nThe races will begin at the city park located on Main Street.  The 10k and 5k courses will take the runners out into the country before finishing at the city park.  The 1-mile run/walk course will also begin and finish at the park\, but will take the participants around town.\n\n\n\nPrizes will be awarded to the top male and female finishers in each age division of the 5k and 10k races.  Prizes will be awarded to the top male and female in the mile race.  All participants will receive a t-shirt and a medal.\n\n\n\nSponsored by Odell Area Community Enrichment (OACE)\n\nProceeds will benefit community improvement projects.
X-ALT-DESC;FMTTYPE=text/html:Run For Fun in Odell<br />\n<br />\n10K\, 5K\, 1-Mile<br />\n<br />\nSaturday\, May 28<br />\nRace Start Time: 8 am<br />\nCheck-in: 7 am<br />\n<br />\n<a href="http://www.odell-nebraska.us/run%20for%20fun%20flyer%202011.pdf">http://www.odell-nebraska.us/run%20for%20fun%20flyer%202011.pdf</a>&nbsp\;for entry form<br />\n<br />\nThe races will begin at the city park located on Main Street.&nbsp\; The 10k and 5k courses will take the runners out into the country before finishing at the city park.&nbsp\; The 1-mile run/walk course will also begin and finish at the park\, but will take the participants around town.<br />\n<br />\nPrizes will be awarded to the top male and female finishers in each age division of the 5k and 10k races.&nbsp\; Prizes will be awarded to the top male and female in the mile race.&nbsp\; All participants will receive a t-shirt and a medal.<br />\n<br />\nSponsored by Odell Area Community Enrichment (OACE)<br />\nProceeds will benefit community improvement projects.<br />\n<br />\n
LOCATION:
UID:e.41.4621
SEQUENCE:3
DTSTAMP:20260424T182511Z
URL:https://business.beatricechamber.com/events/details/run-for-fun-in-odell-05-28-2011-4621
END:VEVENT

END:VCALENDAR
