BEGIN:VCALENDAR
VERSION:2.0
PRODID:-//ChamberMaster//Event Calendar 2.0//EN
METHOD:PUBLISH
X-PUBLISHED-TTL:P3D
REFRESH-INTERVAL:P3D
CALSCALE:GREGORIAN
BEGIN:VEVENT
DTSTART;VALUE=DATE:20090922
DTEND;VALUE=DATE:20090923
TRANSP:TRANSPARENT
X-MICROSOFT-CDO-ALLDAYEVENT:TRUE
SUMMARY:Runza Great Books for Great Kids
DESCRIPTION:On Tuesday\, September 22nd Runza Restaurants will conduct the7th annual Great Books for Great Kids Fundraiser. 15% of sales that day at Fairbury's Runza location will go to the Fairbury Public library to purchase children's books. Last year's fundraiser provided almost $300 of new books. Feed a mind while you feed your body.
X-ALT-DESC;FMTTYPE=text/html:<div><p>On Tuesday\, September 22nd Runza Restaurants will conduct the7th annual Great Books for Great Kids Fundraiser. 15% of sales that day at Fairbury's Runza location will go to the Fairbury Public library to purchase children's books. Last year's fundraiser provided almost $300 of new books. Feed a mind while you feed your body.</p></div>
LOCATION:
UID:e.41.1443
SEQUENCE:3
DTSTAMP:20260425T233936Z
URL:https://business.beatricechamber.com/events/details/runza-great-books-for-great-kids-09-22-2009-1443
END:VEVENT

END:VCALENDAR
