BEGIN:VCALENDAR
VERSION:2.0
PRODID:-//ChamberMaster//Event Calendar 2.0//EN
METHOD:PUBLISH
X-PUBLISHED-TTL:P3D
REFRESH-INTERVAL:P3D
CALSCALE:GREGORIAN
BEGIN:VEVENT
DTSTART;VALUE=DATE:20110813
DTEND;VALUE=DATE:20110814
TRANSP:TRANSPARENT
X-MICROSOFT-CDO-ALLDAYEVENT:TRUE
SUMMARY:"Ryan and Friends" feat. Ventriloquist and Comedian Ryan Bomgardner
DESCRIPTION:7 p.m.\, Wymoire Church of Christ.  Free will offering.  For more information\, 402-645-8090 or visit the website www.ryanandfriends.com
X-ALT-DESC;FMTTYPE=text/html:7 p.m.\, Wymoire Church of Christ.&nbsp\; Free will offering.&nbsp\; For more information\, 402-645-8090 or visit the website <a href="http://www.ryanandfriends.com">www.ryanandfriends.com</a>
LOCATION:
UID:e.41.5034
SEQUENCE:3
DTSTAMP:20260424T135850Z
URL:https://business.beatricechamber.com/events/details/ryan-and-friends-feat-ventriloquist-and-comedian-ryan-bomgardner-08-13-2011-5034
END:VEVENT

END:VCALENDAR
