BEGIN:VCALENDAR
VERSION:2.0
PRODID:-//ChamberMaster//Event Calendar 2.0//EN
METHOD:PUBLISH
X-PUBLISHED-TTL:P3D
REFRESH-INTERVAL:P3D
CALSCALE:GREGORIAN
BEGIN:VEVENT
DTSTART:20120731T131500Z
DTEND:20120731T193000Z
X-MICROSOFT-CDO-ALLDAYEVENT:FALSE
SUMMARY:Safety Day in Fairbury
DESCRIPTION:The Progressive Agriculture Safety Day will be held at the Jefferson County Fairgrounds in Fairbury. This year's Safety Day is the 15th annual event for the local chapter of Jefferson County Farm Safety 4 Just Kids.\n\n\n\nProgressive Agriculture Safety Day is open to area children who will be entering Kindergarten through seventh grades in the fall. Registration fee is $7 per child.\n\n\n\nForms are available at UNL Extension-Jefferson County\, 517 F St.\, Fairbury.\n\n\n\nWalk-ins will be accepted on the day\, but pre-registration is encouraged.\n\n\n\nMore information is available by calling the Extension Office at 402-729-3487 or Lana Likens\, coordinator\, 402-729-5792.
X-ALT-DESC;FMTTYPE=text/html:The Progressive Agriculture Safety Day will be held at the Jefferson County Fairgrounds in Fairbury. This year&#39\;s Safety Day is the 15th annual event for the local chapter of Jefferson County Farm Safety 4 Just Kids.<br />\n<br />\nProgressive Agriculture Safety Day is open to area children who will be entering Kindergarten through seventh grades in the fall. <strong>Registration fee is $7 per child.</strong><br />\n<br />\nForms are available at UNL Extension-Jefferson County\, 517 F St.\, Fairbury.<br />\n<br />\nWalk-ins will be accepted on the day\, but pre-registration is encouraged.<br />\n<br />\nMore information is available&nbsp\;by calling the Extension Office at&nbsp\;402-729-3487 or Lana Likens\, coordinator\, 402-729-5792.
LOCATION:
UID:e.41.6333
SEQUENCE:3
DTSTAMP:20260422T114014Z
URL:https://business.beatricechamber.com/events/details/safety-day-in-fairbury-07-31-2012-6333
END:VEVENT

END:VCALENDAR
