BEGIN:VCALENDAR
VERSION:2.0
PRODID:-//ChamberMaster//Event Calendar 2.0//EN
METHOD:PUBLISH
X-PUBLISHED-TTL:P3D
REFRESH-INTERVAL:P3D
CALSCALE:GREGORIAN
BEGIN:VEVENT
DTSTART:20101126T143000Z
DTEND:20101126T190000Z
X-MICROSOFT-CDO-ALLDAYEVENT:FALSE
SUMMARY:Salvation Army Black Friday sale
DESCRIPTION:Salvation Army to hold Black Friday sale:\n\n\n\nThe Salvation Army Thrift Store\, 624 Market St.\, Beatrice\, is holding a Black Friday Sale Nov. 26.\n\n\n\nFrom 8:30 a.m.-1 p.m.\, customers who purchase one article of clothing can get the second item of equal or lesser value free. Shoes are included in this sale.\n\n\n\nFrom 1 p.m.-5p.m.\, there will be a discount of 25 percent off the total purchase price.
X-ALT-DESC;FMTTYPE=text/html:<strong><span style="font-size: 14px">Salvation Army to hold Black Friday sale:</span></strong><br />\n<br />\nThe Salvation Army Thrift Store\, 624 Market St.\, Beatrice\, is holding a Black Friday Sale Nov. 26.<br />\n<br />\nFrom 8:30 a.m.-1 p.m.\, customers who purchase one article of clothing can get the second item of equal or lesser value free. Shoes are included in this sale.<br />\n<br />\nFrom 1 p.m.-5p.m.\, there will be a discount of 25 percent off the total purchase price.
LOCATION:
UID:e.41.2841
SEQUENCE:3
DTSTAMP:20260425T033034Z
URL:https://business.beatricechamber.com/events/details/salvation-army-black-friday-sale-11-26-2010-2841
END:VEVENT

END:VCALENDAR
