BEGIN:VCALENDAR
VERSION:2.0
PRODID:-//ChamberMaster//Event Calendar 2.0//EN
METHOD:PUBLISH
X-PUBLISHED-TTL:P3D
REFRESH-INTERVAL:P3D
CALSCALE:GREGORIAN
BEGIN:VEVENT
DTSTART;VALUE=DATE:20120421
DTEND;VALUE=DATE:20120422
TRANSP:TRANSPARENT
X-MICROSOFT-CDO-ALLDAYEVENT:TRUE
SUMMARY:Salvation Army Thrift Store Family Day
DESCRIPTION:%20 off total sale for persons 19 to 54 years of age
X-ALT-DESC;FMTTYPE=text/html:%20 off total sale for persons 19 to 54 years of age
LOCATION:624 Market St.\, Beatrice\, NE
UID:e.41.5457
SEQUENCE:3
DTSTAMP:20260422T155133Z
URL:https://business.beatricechamber.com/events/details/salvation-army-thrift-store-family-day-04-21-2012-5457
END:VEVENT

END:VCALENDAR
