BEGIN:VCALENDAR
VERSION:2.0
PRODID:-//ChamberMaster//Event Calendar 2.0//EN
METHOD:PUBLISH
X-PUBLISHED-TTL:P3D
REFRESH-INTERVAL:P3D
CALSCALE:GREGORIAN
BEGIN:VEVENT
DTSTART;VALUE=DATE:20110618
DTEND;VALUE=DATE:20110619
TRANSP:TRANSPARENT
X-MICROSOFT-CDO-ALLDAYEVENT:TRUE
SUMMARY:Salvation Army Thrift Store Family Day
DESCRIPTION:624 Market St.\, Beatrice\, NE\, 20% off total sale for persons 19 to 54 years of age.
X-ALT-DESC;FMTTYPE=text/html:624 Market St.\, Beatrice\, NE\, 20% off total sale for persons 19 to 54 years of age.
LOCATION:
UID:e.41.4864
SEQUENCE:3
DTSTAMP:20260424T165855Z
URL:https://business.beatricechamber.com/events/details/salvation-army-thrift-store-family-day-06-18-2011-4864
END:VEVENT

END:VCALENDAR
